BEGIN:VCALENDAR
VERSION:2.0
PRODID:-//teamlukehopeforminds.org//NONSGML kigkonsult.se iCalcreator 2.30.
 10//
CALSCALE:GREGORIAN
METHOD:PUBLISH
UID:335e523c-130c-42ed-ab3f-a76851a4ee87
X-WR-CALDESC:
X-WR-RELCALID:be60571f32fcfd2fc3b7695ac8d4f7b6
X-WR-TIMEZONE:America/Chicago
BEGIN:VTIMEZONE
TZID:America/Chicago
BEGIN:STANDARD
TZNAME:CST
DTSTART:20241103T020000
TZOFFSETFROM:-0500
TZOFFSETTO:-0600
RDATE:20251102T020000
END:STANDARD
BEGIN:DAYLIGHT
TZNAME:CDT
DTSTART:20250309T020000
TZOFFSETFROM:-0600
TZOFFSETTO:-0500
RDATE:20260308T020000
END:DAYLIGHT
END:VTIMEZONE
BEGIN:VEVENT
UID:098cea47-05b6-4a25-b4f0-221e5a104d83
DTSTAMP:20260423T202523Z
DESCRIPTION:
DTSTART;TZID=America/Chicago:20250428T050000
DTEND;TZID=America/Chicago:20250428T050001
LOCATION:2510 Onion Creek Pkwy\, Austin\, TX 78747 US
SUMMARY:14th Annual Golf Tournament in Austin
END:VEVENT
END:VCALENDAR
