BEGIN:VCALENDAR
VERSION:2.0
PRODID:-//teamlukehopeforminds.org//NONSGML kigkonsult.se iCalcreator 2.30.
 10//
CALSCALE:GREGORIAN
METHOD:PUBLISH
UID:75de0b7a-2fda-45ef-bfe0-9333877a5710
X-WR-CALDESC:
X-WR-RELCALID:b50f96f2632f4cd90ed7c285490ba0ae
X-WR-TIMEZONE:America/Chicago
BEGIN:VTIMEZONE
TZID:America/Chicago
BEGIN:STANDARD
TZNAME:CST
DTSTART:20241103T020000
TZOFFSETFROM:-0500
TZOFFSETTO:-0600
RDATE:20251102T020000
RDATE:20261101T020000
END:STANDARD
BEGIN:DAYLIGHT
TZNAME:CDT
DTSTART:20250309T020000
TZOFFSETFROM:-0600
TZOFFSETTO:-0500
RDATE:20260308T020000
END:DAYLIGHT
END:VTIMEZONE
BEGIN:VEVENT
UID:c0948af2-247e-4be9-a89b-9c2cc07ca947
DTSTAMP:20260423T124806Z
DESCRIPTION:
DTSTART;TZID=America/Chicago:20250823T090000
DTEND;TZID=America/Chicago:20250823T110000
LOCATION:
SUMMARY:5k Color Run
END:VEVENT
END:VCALENDAR
