BEGIN:VCALENDAR
VERSION:2.0
PRODID:-//teamlukehopeforminds.org//NONSGML kigkonsult.se iCalcreator 2.30.
 10//
CALSCALE:GREGORIAN
METHOD:PUBLISH
UID:66d3371c-8d7c-466e-98c3-1c1923c1fee7
X-WR-CALDESC:
X-WR-RELCALID:8ca71c1711eb31baf111d290c378999f
X-WR-TIMEZONE:America/Chicago
BEGIN:VTIMEZONE
TZID:America/Chicago
BEGIN:STANDARD
TZNAME:CST
DTSTART:20241103T020000
TZOFFSETFROM:-0500
TZOFFSETTO:-0600
RDATE:20251102T020000
RDATE:20261101T020000
END:STANDARD
BEGIN:DAYLIGHT
TZNAME:CDT
DTSTART:20250309T020000
TZOFFSETFROM:-0600
TZOFFSETTO:-0500
RDATE:20260308T020000
END:DAYLIGHT
END:VTIMEZONE
BEGIN:VEVENT
UID:1785ad22-fdaa-415f-97fd-6dd1b353b5e4
DTSTAMP:20260423T110600Z
DESCRIPTION:
DTSTART;TZID=America/Chicago:20250904T183000
DTEND;TZID=America/Chicago:20250904T220000
LOCATION:3 S Clubhouse Dr.\, Rogers\, AR 72758 US
SUMMARY:A Night of Hope: An Evening with Coach Van Horn and Elvis Andrus
END:VEVENT
END:VCALENDAR
