BEGIN:VCALENDAR
VERSION:2.0
PRODID:-//teamlukehopeforminds.org//NONSGML kigkonsult.se iCalcreator 2.30.
 10//
CALSCALE:GREGORIAN
METHOD:PUBLISH
UID:157c2ef7-c444-4e23-8db8-e5c226c850b7
X-WR-CALDESC:
X-WR-RELCALID:4275a524f79aea439312fa56d1580fdf
X-WR-TIMEZONE:America/Chicago
BEGIN:VTIMEZONE
TZID:America/Chicago
BEGIN:STANDARD
TZNAME:CST
DTSTART:20241103T020000
TZOFFSETFROM:-0500
TZOFFSETTO:-0600
RDATE:20251102T020000
RDATE:20261101T020000
END:STANDARD
BEGIN:DAYLIGHT
TZNAME:CDT
DTSTART:20250309T020000
TZOFFSETFROM:-0600
TZOFFSETTO:-0500
RDATE:20260308T020000
RDATE:20270314T020000
END:DAYLIGHT
END:VTIMEZONE
BEGIN:VEVENT
UID:19cde3eb-32a9-47f5-b044-567bbb184c9d
DTSTAMP:20260423T093506Z
DESCRIPTION:
DTSTART;TZID=America/Chicago:20251024T090000
DTEND;TZID=America/Chicago:20251025T170000
LOCATION:4600 Menchaca Rd\, Austin\, TX 78745 US
SUMMARY:2025 Making Connections Pediatric Brain Injury Conference & Resourc
 e Fair
END:VEVENT
END:VCALENDAR
