BEGIN:VCALENDAR
VERSION:2.0
PRODID:-//teamlukehopeforminds.org//NONSGML kigkonsult.se iCalcreator 2.30.
 10//
CALSCALE:GREGORIAN
METHOD:PUBLISH
UID:85303792-1600-4779-8215-58796cd8db70
X-WR-CALDESC:
X-WR-RELCALID:4e2ed40d127337b772963f6df27cd3ee
X-WR-TIMEZONE:America/Chicago
BEGIN:VTIMEZONE
TZID:America/Chicago
BEGIN:STANDARD
TZNAME:CST
DTSTART:20241103T020000
TZOFFSETFROM:-0500
TZOFFSETTO:-0600
RDATE:20251102T020000
RDATE:20261101T020000
END:STANDARD
BEGIN:DAYLIGHT
TZNAME:CDT
DTSTART:20250309T020000
TZOFFSETFROM:-0600
TZOFFSETTO:-0500
RDATE:20260308T020000
RDATE:20270314T020000
END:DAYLIGHT
END:VTIMEZONE
BEGIN:VEVENT
UID:f3c5c608-49dc-4d9a-9756-f077b5bcca9b
DTSTAMP:20260423T093635Z
DESCRIPTION:
DTSTART;TZID=America/Chicago:20251027T080000
DTEND;TZID=America/Chicago:20251027T180000
LOCATION:4011 N Boston Ave\, Lubbock\, TX 79415 US
SUMMARY:Mindful Swings Golf Tournament in Lubbock
END:VEVENT
END:VCALENDAR
